BEGIN:VCALENDAR
VERSION:2.0
PRODID:-//Fritiof Nilsson Piraten Sällskapet - ECPv6.15.20//NONSGML v1.0//EN
CALSCALE:GREGORIAN
METHOD:PUBLISH
X-ORIGINAL-URL:https://www.piratensallskapet.se
X-WR-CALDESC:Händelser för Fritiof Nilsson Piraten Sällskapet
REFRESH-INTERVAL;VALUE=DURATION:PT1H
X-Robots-Tag:noindex
X-PUBLISHED-TTL:PT1H
BEGIN:VTIMEZONE
TZID:Europe/Stockholm
BEGIN:DAYLIGHT
TZOFFSETFROM:+0100
TZOFFSETTO:+0200
TZNAME:CEST
DTSTART:20250330T010000
END:DAYLIGHT
BEGIN:STANDARD
TZOFFSETFROM:+0200
TZOFFSETTO:+0100
TZNAME:CET
DTSTART:20251026T010000
END:STANDARD
BEGIN:DAYLIGHT
TZOFFSETFROM:+0100
TZOFFSETTO:+0200
TZNAME:CEST
DTSTART:20260329T010000
END:DAYLIGHT
BEGIN:STANDARD
TZOFFSETFROM:+0200
TZOFFSETTO:+0100
TZNAME:CET
DTSTART:20261025T010000
END:STANDARD
BEGIN:DAYLIGHT
TZOFFSETFROM:+0100
TZOFFSETTO:+0200
TZNAME:CEST
DTSTART:20270328T010000
END:DAYLIGHT
BEGIN:STANDARD
TZOFFSETFROM:+0200
TZOFFSETTO:+0100
TZNAME:CET
DTSTART:20271031T010000
END:STANDARD
END:VTIMEZONE
BEGIN:VEVENT
DTSTART;TZID=Europe/Stockholm:20260719T150000
DTEND;TZID=Europe/Stockholm:20260719T170000
DTSTAMP:20260425T214818
CREATED:20260412T101129Z
LAST-MODIFIED:20260412T101129Z
UID:456-1784473200-1784480400@www.piratensallskapet.se
SUMMARY:Go ettemidda 2026
DESCRIPTION:Söndagen den 19 juli är det dags för en ny upplaga av Go ettemidda! Litterär och musikalisk underhållning Piratens anda\, på Piratenscenen i Vollsjö. I år med författaren Jan Sigurd (aktuell med sin nya bok Kring en drunknad Pirat) och musikern Mikael Neumann.
URL:https://www.piratensallskapet.se/event/go-ettemidda-2026/
LOCATION:Piratenparken\, Piratens gata 1\, Vollsjö\, 27566\, Sverige
CATEGORIES:Go ettemidda
ORGANIZER;CN="Fritiof Nilsson Piraten S%C3%A4llskapet":MAILTO:info@piratensallskapet.se
END:VEVENT
END:VCALENDAR